BEGIN:VCALENDAR
VERSION:2.0
PRODID:-//VÉGÉTALsens - ECPv6.15.20//NONSGML v1.0//EN
CALSCALE:GREGORIAN
METHOD:PUBLISH
X-WR-CALNAME:VÉGÉTALsens
X-ORIGINAL-URL:https://vegetalsens.org
X-WR-CALDESC:Évènements pour VÉGÉTALsens
REFRESH-INTERVAL;VALUE=DURATION:PT1H
X-Robots-Tag:noindex
X-PUBLISHED-TTL:PT1H
BEGIN:VTIMEZONE
TZID:Europe/Paris
BEGIN:DAYLIGHT
TZOFFSETFROM:+0100
TZOFFSETTO:+0200
TZNAME:CEST
DTSTART:20240331T010000
END:DAYLIGHT
BEGIN:STANDARD
TZOFFSETFROM:+0200
TZOFFSETTO:+0100
TZNAME:CET
DTSTART:20241027T010000
END:STANDARD
BEGIN:DAYLIGHT
TZOFFSETFROM:+0100
TZOFFSETTO:+0200
TZNAME:CEST
DTSTART:20250330T010000
END:DAYLIGHT
BEGIN:STANDARD
TZOFFSETFROM:+0200
TZOFFSETTO:+0100
TZNAME:CET
DTSTART:20251026T010000
END:STANDARD
BEGIN:DAYLIGHT
TZOFFSETFROM:+0100
TZOFFSETTO:+0200
TZNAME:CEST
DTSTART:20260329T010000
END:DAYLIGHT
BEGIN:STANDARD
TZOFFSETFROM:+0200
TZOFFSETTO:+0100
TZNAME:CET
DTSTART:20261025T010000
END:STANDARD
END:VTIMEZONE
BEGIN:VEVENT
DTSTART;TZID=Europe/Paris:20250304T140000
DTEND;TZID=Europe/Paris:20250304T163000
DTSTAMP:20260422T144115
CREATED:20241121T201931Z
LAST-MODIFIED:20250217T115943Z
UID:29511-1741096800-1741105800@vegetalsens.org
SUMMARY:Plateau des Petites Roches - Les Dioux
DESCRIPTION:Vivez une expérience unique et intemporelle de lâcher prise avec ce bain de forêt et le chant de la forêt\, afin de se relier à soi et à la nature\, se ressourcer\, s’inspirer\, et se régénérer. \n\nVÉGÉTALsens & l’office de tourisme du plateau des petites roches vous invite à une immersion dans le monde végétal du plateau des Dioux. \nNous allons dans un premier temps vivre une plongée végétale et vibratoire avec nos amis les arbres. \nRalentir\, ressentir\, le temps d’un expire\, se laisser porter par le flux du vivant. \nMichel de VÉGÉTALsens va ensuite nous faire découvrir le chant des plantes en venant brancher ses appareils sur les végétaux que nous allons rencontrer sur le parcours. \nEs tu prêt à plonger dans cette expérience sensitive ? \nSi oui\, inscris toi auprès de l’office de tourisme du plateau des petites roches mail: animation.ppr@belledonne-chartreuse.com tel: 04 76 08 33 99 \nhttps://plateaudespetitesroches.com/tout-lagenda/#widget-details-offre-7228015
URL:https://vegetalsens.org/evenement/plateau-des-petites-roches-2/
END:VEVENT
END:VCALENDAR