BEGIN:VCALENDAR
VERSION:2.0
PRODID:-//VÉGÉTALsens - ECPv6.15.20//NONSGML v1.0//EN
CALSCALE:GREGORIAN
METHOD:PUBLISH
X-WR-CALNAME:VÉGÉTALsens
X-ORIGINAL-URL:https://vegetalsens.org
X-WR-CALDESC:Évènements pour VÉGÉTALsens
REFRESH-INTERVAL;VALUE=DURATION:PT1H
X-Robots-Tag:noindex
X-PUBLISHED-TTL:PT1H
BEGIN:VTIMEZONE
TZID:Europe/Paris
BEGIN:DAYLIGHT
TZOFFSETFROM:+0100
TZOFFSETTO:+0200
TZNAME:CEST
DTSTART:20240331T010000
END:DAYLIGHT
BEGIN:STANDARD
TZOFFSETFROM:+0200
TZOFFSETTO:+0100
TZNAME:CET
DTSTART:20241027T010000
END:STANDARD
BEGIN:DAYLIGHT
TZOFFSETFROM:+0100
TZOFFSETTO:+0200
TZNAME:CEST
DTSTART:20250330T010000
END:DAYLIGHT
BEGIN:STANDARD
TZOFFSETFROM:+0200
TZOFFSETTO:+0100
TZNAME:CET
DTSTART:20251026T010000
END:STANDARD
BEGIN:DAYLIGHT
TZOFFSETFROM:+0100
TZOFFSETTO:+0200
TZNAME:CEST
DTSTART:20260329T010000
END:DAYLIGHT
BEGIN:STANDARD
TZOFFSETFROM:+0200
TZOFFSETTO:+0100
TZNAME:CET
DTSTART:20261025T010000
END:STANDARD
END:VTIMEZONE
BEGIN:VEVENT
DTSTART;TZID=Europe/Paris:20250730T170000
DTEND;TZID=Europe/Paris:20250730T183000
DTSTAMP:20260421T204854
CREATED:20241210T104858Z
LAST-MODIFIED:20250526T191446Z
UID:29594-1753894800-1753900200@vegetalsens.org
SUMMARY:Yenne - jardin partagé
DESCRIPTION:Découverte de la musique par les plantes :\nHistorique scientifique\nApplications en agriculture\, animaux des fermes\,\nBiodynamiseur Botanique de Gaujacq\,\nMusique à la fréquence de l’eau 429.62 Hz\nConcert Botanique\nCuisine Sonore\n…
URL:https://vegetalsens.org/evenement/yenne-jardin-partage-7/
LOCATION:Yenne\, Faubourg Tournechat - jardin partagé de la Fourmilienne\, YENNE\, 73170
ORGANIZER;CN="V%C3%89G%C3%89TALsens":MAILTO:vegetalsens@mailo.com
END:VEVENT
END:VCALENDAR