BEGIN:VCALENDAR
VERSION:2.0
PRODID:-//VÉGÉTALsens - ECPv6.15.20//NONSGML v1.0//EN
CALSCALE:GREGORIAN
METHOD:PUBLISH
X-WR-CALNAME:VÉGÉTALsens
X-ORIGINAL-URL:https://vegetalsens.org
X-WR-CALDESC:Évènements pour VÉGÉTALsens
REFRESH-INTERVAL;VALUE=DURATION:PT1H
X-Robots-Tag:noindex
X-PUBLISHED-TTL:PT1H
BEGIN:VTIMEZONE
TZID:Europe/Paris
BEGIN:DAYLIGHT
TZOFFSETFROM:+0100
TZOFFSETTO:+0200
TZNAME:CEST
DTSTART:20240331T010000
END:DAYLIGHT
BEGIN:STANDARD
TZOFFSETFROM:+0200
TZOFFSETTO:+0100
TZNAME:CET
DTSTART:20241027T010000
END:STANDARD
BEGIN:DAYLIGHT
TZOFFSETFROM:+0100
TZOFFSETTO:+0200
TZNAME:CEST
DTSTART:20250330T010000
END:DAYLIGHT
BEGIN:STANDARD
TZOFFSETFROM:+0200
TZOFFSETTO:+0100
TZNAME:CET
DTSTART:20251026T010000
END:STANDARD
BEGIN:DAYLIGHT
TZOFFSETFROM:+0100
TZOFFSETTO:+0200
TZNAME:CEST
DTSTART:20260329T010000
END:DAYLIGHT
BEGIN:STANDARD
TZOFFSETFROM:+0200
TZOFFSETTO:+0100
TZNAME:CET
DTSTART:20261025T010000
END:STANDARD
END:VTIMEZONE
BEGIN:VEVENT
DTSTART;TZID=Europe/Paris:20250823T080000
DTEND;TZID=Europe/Paris:20250823T120000
DTSTAMP:20260421T222644
CREATED:20241218T154348Z
LAST-MODIFIED:20250526T194113Z
UID:29664-1755936000-1755950400@vegetalsens.org
SUMMARY:St Pierre d'Entremont 38 - place du marché
DESCRIPTION:Découverte de la musique par les plantes dans les thèmes :\nHistorique scientifique\nAgriculture et protéodies\, procédé Génodics\nAgriculture et BBG\, Biodynamiseur Botanique de Gaujacq\,\nSoins/séances animaux des fermes\, protocole\nSoins/séances pour les humains\, protocole\nMusique à la fréquence de l’eau 429.62 Hz\nConcert Botanique\nCuisine Sonore\n…
URL:https://vegetalsens.org/evenement/st-pierre-dentremont-5/
LOCATION:St Pierre d’Entremont
ORGANIZER;CN="V%C3%89G%C3%89TALsens":MAILTO:vegetalsens@mailo.com
END:VEVENT
BEGIN:VEVENT
DTSTART;TZID=Europe/Paris:20250823T143000
DTEND;TZID=Europe/Paris:20250823T160000
DTSTAMP:20260421T222644
CREATED:20250715T093517Z
LAST-MODIFIED:20250715T093517Z
UID:29894-1755959400-1755964800@vegetalsens.org
SUMMARY:St Pierre de Chartreuse – jardin du Père Truffot
DESCRIPTION:Découverte de la musique par les plantes dans les thèmes :\nHistorique scientifique\nAgriculture et protéodies\nAgriculture et BBG\nSoins/séances animaux des fermes\nSoins/séances pour les humains\nMusique à la fréquence de l’eau 429.62 Hz\nConcert Botanique\nGastronomie et herboristerie sonores\n…
URL:https://vegetalsens.org/evenement/st-pierre-de-chartreuse-jardin-du-pere-truffot/
LOCATION:St Pierre de Chartrteuse
END:VEVENT
END:VCALENDAR