BEGIN:VCALENDAR
VERSION:2.0
PRODID:-//VÉGÉTALsens - ECPv6.15.20//NONSGML v1.0//EN
CALSCALE:GREGORIAN
METHOD:PUBLISH
X-WR-CALNAME:VÉGÉTALsens
X-ORIGINAL-URL:https://vegetalsens.org
X-WR-CALDESC:Évènements pour VÉGÉTALsens
REFRESH-INTERVAL;VALUE=DURATION:PT1H
X-Robots-Tag:noindex
X-PUBLISHED-TTL:PT1H
BEGIN:VTIMEZONE
TZID:Europe/Paris
BEGIN:DAYLIGHT
TZOFFSETFROM:+0100
TZOFFSETTO:+0200
TZNAME:CEST
DTSTART:20240331T010000
END:DAYLIGHT
BEGIN:STANDARD
TZOFFSETFROM:+0200
TZOFFSETTO:+0100
TZNAME:CET
DTSTART:20241027T010000
END:STANDARD
BEGIN:DAYLIGHT
TZOFFSETFROM:+0100
TZOFFSETTO:+0200
TZNAME:CEST
DTSTART:20250330T010000
END:DAYLIGHT
BEGIN:STANDARD
TZOFFSETFROM:+0200
TZOFFSETTO:+0100
TZNAME:CET
DTSTART:20251026T010000
END:STANDARD
BEGIN:DAYLIGHT
TZOFFSETFROM:+0100
TZOFFSETTO:+0200
TZNAME:CEST
DTSTART:20260329T010000
END:DAYLIGHT
BEGIN:STANDARD
TZOFFSETFROM:+0200
TZOFFSETTO:+0100
TZNAME:CET
DTSTART:20261025T010000
END:STANDARD
END:VTIMEZONE
BEGIN:VEVENT
DTSTART;TZID=Europe/Paris:20251103T140000
DTEND;TZID=Europe/Paris:20251103T153000
DTSTAMP:20260421T152824
CREATED:20241226T212957Z
LAST-MODIFIED:20251012T114323Z
UID:29705-1762178400-1762183800@vegetalsens.org
SUMMARY:St Alban de Montbel - Animations dans les écoles
DESCRIPTION:Animations et présentation des mélodies des végétaux\nsous forme de conte reprenant les travaux de : \nCleve Backster 1924 – 2013\nExpert CIA et son détecteur de mensonge –\nperceptions et capacités des plantes \n \n  \nLouis De Broglie 1892 1987\nprix nobel de physique 1929 – dualité onde-corpuscule\n \n  \nDocteur Joël Sternheimer 1943 2023\npère de la génodique\ndocteur en physique théorique/quantique –\n \n  \nProfesseur Marc HENRY 1958 2024\nphysique quantique – eau et conscience\nnotes de musique à la fréquence de l’eau\n \n  \nTommi JACK’S\nCompositeur et créateur de musiques à la fréquence de l’eau – \n \n  \nJean THOBY musiniériste\nbiodynamiseur fréquencé avec de la musique de la fougère \n \n  \nPedro FERRANDIZ procédés Génodics en agriculture\n \n  \nVictor PRÉVOST procédés Génodics en agriculture\n \n…
URL:https://vegetalsens.org/evenement/fete-de-la-sciences/
ORGANIZER;CN="V%C3%89G%C3%89TALsens":MAILTO:vegetalsens@mailo.com
END:VEVENT
END:VCALENDAR