BEGIN:VCALENDAR
VERSION:2.0
PRODID:-//VÉGÉTALsens - ECPv6.15.20//NONSGML v1.0//EN
CALSCALE:GREGORIAN
METHOD:PUBLISH
X-WR-CALNAME:VÉGÉTALsens
X-ORIGINAL-URL:https://vegetalsens.org
X-WR-CALDESC:Évènements pour VÉGÉTALsens
REFRESH-INTERVAL;VALUE=DURATION:PT1H
X-Robots-Tag:noindex
X-PUBLISHED-TTL:PT1H
BEGIN:VTIMEZONE
TZID:Europe/Paris
BEGIN:DAYLIGHT
TZOFFSETFROM:+0100
TZOFFSETTO:+0200
TZNAME:CEST
DTSTART:20240331T010000
END:DAYLIGHT
BEGIN:STANDARD
TZOFFSETFROM:+0200
TZOFFSETTO:+0100
TZNAME:CET
DTSTART:20241027T010000
END:STANDARD
BEGIN:DAYLIGHT
TZOFFSETFROM:+0100
TZOFFSETTO:+0200
TZNAME:CEST
DTSTART:20250330T010000
END:DAYLIGHT
BEGIN:STANDARD
TZOFFSETFROM:+0200
TZOFFSETTO:+0100
TZNAME:CET
DTSTART:20251026T010000
END:STANDARD
BEGIN:DAYLIGHT
TZOFFSETFROM:+0100
TZOFFSETTO:+0200
TZNAME:CEST
DTSTART:20260329T010000
END:DAYLIGHT
BEGIN:STANDARD
TZOFFSETFROM:+0200
TZOFFSETTO:+0100
TZNAME:CET
DTSTART:20261025T010000
END:STANDARD
END:VTIMEZONE
BEGIN:VEVENT
DTSTART;TZID=Europe/Paris:20250203T190000
DTEND;TZID=Europe/Paris:20250203T203000
DTSTAMP:20260422T163345
CREATED:20241205T175654Z
LAST-MODIFIED:20250103T160046Z
UID:29518-1738609200-1738614600@vegetalsens.org
SUMMARY:Novalaise - A E L  - réservé aux adhérents tes
DESCRIPTION:Thème à définir :
URL:https://vegetalsens.org/evenement/st-alban-de-montbel-place-du-village-2/
LOCATION:Novalaise A E L\, Novalaise AEL\, 73470\, France
ORGANIZER;CN="V%C3%89G%C3%89TALsens":MAILTO:vegetalsens@mailo.com
END:VEVENT
BEGIN:VEVENT
DTSTART;TZID=Europe/Paris:20250210T170000
DTEND;TZID=Europe/Paris:20250210T180000
DTSTAMP:20260422T163345
CREATED:20241218T142132Z
LAST-MODIFIED:20241218T142259Z
UID:29607-1739206800-1739210400@vegetalsens.org
SUMMARY:St Alban de Montbel – place du village
DESCRIPTION:Découverte de la musique par les plantes dans les thèmes :\nHistorique scientifique\nAgriculture et protéodies\, procédé Génodics\nAgriculture et BBG\, Biodynamiseur Botanique de Gaujacq\,\nSoins/séances animaux des fermes\, protocole\nSoins/séances pour les humains\, protocole\nMusique à la fréquence de l’eau 429.62 Hz\nConcert Botanique\nCuisine Sonore\n…
URL:https://vegetalsens.org/evenement/st-alban-de-montbel-place-du-village/
LOCATION:St Alban de Montbel\, Place de la mairie\, St Alban de Montbel\, 73610\, France
ORGANIZER;CN="V%C3%89G%C3%89TALsens":MAILTO:vegetalsens@mailo.com
END:VEVENT
END:VCALENDAR