BEGIN:VCALENDAR
VERSION:2.0
PRODID:-//VÉGÉTALsens - ECPv6.15.20//NONSGML v1.0//EN
CALSCALE:GREGORIAN
METHOD:PUBLISH
X-WR-CALNAME:VÉGÉTALsens
X-ORIGINAL-URL:https://vegetalsens.org
X-WR-CALDESC:Évènements pour VÉGÉTALsens
REFRESH-INTERVAL;VALUE=DURATION:PT1H
X-Robots-Tag:noindex
X-PUBLISHED-TTL:PT1H
BEGIN:VTIMEZONE
TZID:Europe/Paris
BEGIN:DAYLIGHT
TZOFFSETFROM:+0100
TZOFFSETTO:+0200
TZNAME:CEST
DTSTART:20240331T010000
END:DAYLIGHT
BEGIN:STANDARD
TZOFFSETFROM:+0200
TZOFFSETTO:+0100
TZNAME:CET
DTSTART:20241027T010000
END:STANDARD
BEGIN:DAYLIGHT
TZOFFSETFROM:+0100
TZOFFSETTO:+0200
TZNAME:CEST
DTSTART:20250330T010000
END:DAYLIGHT
BEGIN:STANDARD
TZOFFSETFROM:+0200
TZOFFSETTO:+0100
TZNAME:CET
DTSTART:20251026T010000
END:STANDARD
BEGIN:DAYLIGHT
TZOFFSETFROM:+0100
TZOFFSETTO:+0200
TZNAME:CEST
DTSTART:20260329T010000
END:DAYLIGHT
BEGIN:STANDARD
TZOFFSETFROM:+0200
TZOFFSETTO:+0100
TZNAME:CET
DTSTART:20261025T010000
END:STANDARD
END:VTIMEZONE
BEGIN:VEVENT
DTSTART;TZID=Europe/Paris:20250402T190000
DTEND;TZID=Europe/Paris:20250402T210000
DTSTAMP:20260422T113158
CREATED:20241210T101559Z
LAST-MODIFIED:20241226T210600Z
UID:29571-1743620400-1743627600@vegetalsens.org
SUMMARY:Chambéry - réservé association horticole du Bocage
DESCRIPTION:Conférence sur la musique par les plantes dans l’agriculture :\nHistorique scientifique\nAgriculture et protéodies\, procédé Génodics\nAgriculture et BBG\, Biodynamiseur Botanique de Gaujacq\nAgriculture et « songrais » engrais par le son\nSoins/séances animaux des fermes \n \n \n \n 
URL:https://vegetalsens.org/evenement/chambery-bocage/
ORGANIZER;CN="V%C3%89G%C3%89TALsens":MAILTO:vegetalsens@mailo.com
END:VEVENT
BEGIN:VEVENT
DTSTART;VALUE=DATE:20250405
DTEND;VALUE=DATE:20250406
DTSTAMP:20260422T113158
CREATED:20241210T100841Z
LAST-MODIFIED:20241218T144727Z
UID:29569-1743811200-1743897599@vegetalsens.org
SUMMARY:Aiguebelette le lac avec asso ELA
DESCRIPTION:Découverte de la musique par les plantes dans les thèmes :\nHistorique scientifique\nAgriculture et protéodies\, procédé Génodics\nAgriculture et BBG\, Biodynamiseur Botanique de Gaujacq\,\nSoins/séances animaux des fermes\, protocole\nSoins/séances pour les humains\, protocole\nMusique à la fréquence de l’eau 429.62 Hz\nConcert Botanique\nCuisine Sonore\n…
URL:https://vegetalsens.org/evenement/aiguebelette-le-lac/
LOCATION:Aiguebelette le lac\, 73610\, France
END:VEVENT
BEGIN:VEVENT
DTSTART;TZID=Europe/Paris:20250407T190000
DTEND;TZID=Europe/Paris:20250407T203000
DTSTAMP:20260422T113158
CREATED:20241218T144910Z
LAST-MODIFIED:20250103T160251Z
UID:29620-1744052400-1744057800@vegetalsens.org
SUMMARY:Novalaise – A E L – réservé aux adhérents tes
DESCRIPTION:Thèmes à définir
URL:https://vegetalsens.org/evenement/novalaise-a-e-l-reserve-aux-adherents-tes-3/
LOCATION:Novalaise A E L\, Novalaise AEL\, 73470\, France
END:VEVENT
BEGIN:VEVENT
DTSTART;TZID=Europe/Paris:20250413T100000
DTEND;TZID=Europe/Paris:20250413T113000
DTSTAMP:20260422T113158
CREATED:20241210T093544Z
LAST-MODIFIED:20241210T093622Z
UID:29551-1744538400-1744543800@vegetalsens.org
SUMMARY:Novalaise - verger sauvage Thévenon Rousseau
DESCRIPTION:Découverte de la musique par les plantes dans les thèmes :\nHistorique scientifique\nAgriculture et protéodies\, procédé Génodics\nAgriculture et BBG\, Biodynamiseur Botanique de Gaujacq\,\nSoins/séances animaux des fermes\, protocole\nSoins/séances pour les humains\, protocole\nMusique à la fréquence de l’eau 429.62 Hz\nConcert Botanique\nCuisine Sonore\n…
URL:https://vegetalsens.org/evenement/novalaise-verger-sauvage-thevenon-rousseau-10/
LOCATION:Novalaise\, verger sauvage Thévenon-Rousseau - RDV parking cimetière\, NOVALAISE\, 73470
ORGANIZER;CN="V%C3%89G%C3%89TALsens":MAILTO:vegetalsens@mailo.com
END:VEVENT
BEGIN:VEVENT
DTSTART;TZID=Europe/Paris:20250414T173000
DTEND;TZID=Europe/Paris:20250414T183000
DTSTAMP:20260422T113158
CREATED:20241218T145353Z
LAST-MODIFIED:20241218T145353Z
UID:29622-1744651800-1744655400@vegetalsens.org
SUMMARY:St Alban de Montbel – place du village
DESCRIPTION:Découverte de la musique par les plantes dans les thèmes :\nHistorique scientifique\nAgriculture et protéodies\, procédé Génodics\nAgriculture et BBG\, Biodynamiseur Botanique de Gaujacq\,\nSoins/séances animaux des fermes\, protocole\nSoins/séances pour les humains\, protocole\nMusique à la fréquence de l’eau 429.62 Hz\nConcert Botanique\nCuisine Sonore\n…
URL:https://vegetalsens.org/evenement/st-alban-de-montbel-place-du-village-4/
LOCATION:St Alban de Montbel\, Place de la mairie\, St Alban de Montbel\, 73610\, France
ORGANIZER;CN="V%C3%89G%C3%89TALsens":MAILTO:vegetalsens@mailo.com
END:VEVENT
BEGIN:VEVENT
DTSTART;TZID=Europe/Paris:20250419T100000
DTEND;TZID=Europe/Paris:20250419T113000
DTSTAMP:20260422T113158
CREATED:20241218T145601Z
LAST-MODIFIED:20250413T134946Z
UID:29624-1745056800-1745062200@vegetalsens.org
SUMMARY:St Pierre d'Entremont 38 - Pré de ville
DESCRIPTION:Découverte de la musique par les plantes dans les thèmes :\nHistorique scientifique\nAgriculture et protéodies\, procédé Génodics\nAgriculture et BBG\, Biodynamiseur Botanique de Gaujacq\,\nSoins/séances animaux des fermes\, protocole\nSoins/séances pour les humains\, protocole\nMusique à la fréquence de l’eau 429.62 Hz\nConcert Botanique\nGrastronomie et herboristerie sonores\n…
URL:https://vegetalsens.org/evenement/st-pierre-dentremont/
LOCATION:St Pierre d’Entremont
ORGANIZER;CN="V%C3%89G%C3%89TALsens":MAILTO:vegetalsens@mailo.com
END:VEVENT
BEGIN:VEVENT
DTSTART;TZID=Europe/Paris:20250419T143000
DTEND;TZID=Europe/Paris:20250419T160000
DTSTAMP:20260422T113158
CREATED:20241218T145841Z
LAST-MODIFIED:20250413T134822Z
UID:29627-1745073000-1745078400@vegetalsens.org
SUMMARY:St Pierre de Chartreuse - jardin du Père Truffot
DESCRIPTION:Découverte de la musique par les plantes dans les thèmes :\nHistorique scientifique\nAgriculture et protéodies\, procédé Génodics\nAgriculture et BBG\, Biodynamiseur Botanique de Gaujacq\,\nSoins/séances animaux des fermes\, protocole\nSoins/séances pour les humains\, protocole\nMusique à la fréquence de l’eau 429.62 Hz\nConcert Botanique\nGastronomie et herboristerie sonores\n…
URL:https://vegetalsens.org/evenement/st-pierre-de-chartreuse/
LOCATION:St Pierre de Chartrteuse
END:VEVENT
BEGIN:VEVENT
DTSTART;TZID=Europe/Paris:20250426T143000
DTEND;TZID=Europe/Paris:20250426T163000
DTSTAMP:20260422T113158
CREATED:20241226T182239Z
LAST-MODIFIED:20241226T182416Z
UID:29691-1745677800-1745685000@vegetalsens.org
SUMMARY:Chambéry - réservé association horticole du Bocage
DESCRIPTION:Atelier sur la musique par les plantes :\nExpérimentations et écoutes des plantes des serres
URL:https://vegetalsens.org/evenement/chambery-reserve-association-horticole-du-bocage/
ORGANIZER;CN="V%C3%89G%C3%89TALsens":MAILTO:vegetalsens@mailo.com
END:VEVENT
BEGIN:VEVENT
DTSTART;TZID=Europe/Paris:20250430T170000
DTEND;TZID=Europe/Paris:20250430T183000
DTSTAMP:20260422T113158
CREATED:20241210T104606Z
LAST-MODIFIED:20241210T104606Z
UID:29590-1746032400-1746037800@vegetalsens.org
SUMMARY:Yenne - jardin partagé
DESCRIPTION:Découverte de la musique par les plantes dans les thèmes :\nHistorique scientifique\nAgriculture et protéodies\, procédé Génodics\nAgriculture et BBG\, Biodynamiseur Botanique de Gaujacq\,\nSoins/séances animaux des fermes\, protocole\nSoins/séances pour les humains\, protocole\nMusique à la fréquence de l’eau 429.62 Hz\nConcert Botanique\nCuisine Sonore\n…
URL:https://vegetalsens.org/evenement/yenne-jardin-partage-5/
LOCATION:Yenne\, Faubourg Tournechat - jardin partagé de la Fourmilienne\, YENNE\, 73170
ORGANIZER;CN="V%C3%89G%C3%89TALsens":MAILTO:vegetalsens@mailo.com
END:VEVENT
END:VCALENDAR