BEGIN:VCALENDAR
VERSION:2.0
PRODID:-//VÉGÉTALsens - ECPv6.15.20//NONSGML v1.0//EN
CALSCALE:GREGORIAN
METHOD:PUBLISH
X-ORIGINAL-URL:https://vegetalsens.org
X-WR-CALDESC:Évènements pour VÉGÉTALsens
REFRESH-INTERVAL;VALUE=DURATION:PT1H
X-Robots-Tag:noindex
X-PUBLISHED-TTL:PT1H
BEGIN:VTIMEZONE
TZID:Europe/Paris
BEGIN:DAYLIGHT
TZOFFSETFROM:+0100
TZOFFSETTO:+0200
TZNAME:CEST
DTSTART:20240331T010000
END:DAYLIGHT
BEGIN:STANDARD
TZOFFSETFROM:+0200
TZOFFSETTO:+0100
TZNAME:CET
DTSTART:20241027T010000
END:STANDARD
BEGIN:DAYLIGHT
TZOFFSETFROM:+0100
TZOFFSETTO:+0200
TZNAME:CEST
DTSTART:20250330T010000
END:DAYLIGHT
BEGIN:STANDARD
TZOFFSETFROM:+0200
TZOFFSETTO:+0100
TZNAME:CET
DTSTART:20251026T010000
END:STANDARD
BEGIN:DAYLIGHT
TZOFFSETFROM:+0100
TZOFFSETTO:+0200
TZNAME:CEST
DTSTART:20260329T010000
END:DAYLIGHT
BEGIN:STANDARD
TZOFFSETFROM:+0200
TZOFFSETTO:+0100
TZNAME:CET
DTSTART:20261025T010000
END:STANDARD
END:VTIMEZONE
BEGIN:VEVENT
DTSTART;TZID=Europe/Paris:20250705T143000
DTEND;TZID=Europe/Paris:20250705T160000
DTSTAMP:20260422T022240
CREATED:20241210T102926Z
LAST-MODIFIED:20241226T205103Z
UID:29578-1751725800-1751731200@vegetalsens.org
SUMMARY:St Maurice de Rotherens - radio-musée Galetti
DESCRIPTION:Découverte de la musique par les plantes dans les thèmes :\nHistorique scientifique\nAgriculture et protéodies\, procédé Génodics\nAgriculture et BBG\, Biodynamiseur Botanique de Gaujacq\,\nSoins/séances animaux des fermes\, protocole\nSoins/séances pour les humains\, protocole\nMusique à la fréquence de l’eau 429.62 Hz\nConcert Botanique\nCuisine Sonore\n…
URL:https://vegetalsens.org/evenement/st-maurice-de-rotherens-radio-musee-galetti/
LOCATION:Saint Maurice de Rotherens\, Route de galletti - place de l'église\, SAINT MAURICE DE ROTHERENS
ORGANIZER;CN="V%C3%89G%C3%89TALsens":MAILTO:vegetalsens@mailo.com
END:VEVENT
BEGIN:VEVENT
DTSTART;TZID=Europe/Paris:20250707T180000
DTEND;TZID=Europe/Paris:20250707T190000
DTSTAMP:20260422T022240
CREATED:20241205T181443Z
LAST-MODIFIED:20241210T085604Z
UID:29529-1751911200-1751914800@vegetalsens.org
SUMMARY:St Alban de Montbel - place du village
DESCRIPTION:Découverte de la musique par les plantes dans les thèmes :\nHistorique scientifique\nAgriculture et protéodies\, procédé Génodics\nAgriculture et BBG\, Biodynamiseur Botanique de Gaujacq\,\nSoins/séances animaux des fermes\, protocole\nSoins/séances pour les humains\, protocole\nMusique à la fréquence de l’eau 429.62 Hz\nConcert Botanique\nCuisine Sonore\n…
URL:https://vegetalsens.org/evenement/29529/
LOCATION:St Alban de Montbel\, Place de la mairie\, St Alban de Montbel\, 73610\, France
ORGANIZER;CN="V%C3%89G%C3%89TALsens":MAILTO:vegetalsens@mailo.com
END:VEVENT
BEGIN:VEVENT
DTSTART;TZID=Europe/Paris:20250711T100000
DTEND;TZID=Europe/Paris:20250711T113000
DTSTAMP:20260422T022240
CREATED:20250114T173733Z
LAST-MODIFIED:20250114T174513Z
UID:29774-1752228000-1752233400@vegetalsens.org
SUMMARY:Camping l'Arbaz - animation privée
DESCRIPTION:Découverte de la musique par les plantes dans les thèmes :\nHistorique scientifique\nAgriculture et protéodies\, procédé Génodics\nAgriculture et BBG\, Biodynamiseur Botanique de Gaujacq\,\nSoins/séances animaux des fermes\, protocole\nSoins/séances pour les humains\, protocole\nMusique à la fréquence de l’eau 429.62 Hz\nConcert Botanique\nCuisine Sonore\n…
URL:https://vegetalsens.org/evenement/novalaise-camping-larbaz-animation-privee/
END:VEVENT
BEGIN:VEVENT
DTSTART;TZID=Europe/Paris:20250719T080000
DTEND;TZID=Europe/Paris:20250719T120000
DTSTAMP:20260422T022240
CREATED:20241218T153548Z
LAST-MODIFIED:20250526T194231Z
UID:29656-1752912000-1752926400@vegetalsens.org
SUMMARY:St Pierre d’Entremont 38 - place du marché
DESCRIPTION:Découverte de la musique par les plantes dans les thèmes :\nHistorique scientifique\nAgriculture et protéodies\, procédé Génodics\nAgriculture et BBG\, Biodynamiseur Botanique de Gaujacq\,\nSoins/séances animaux des fermes\, protocole\nSoins/séances pour les humains\, protocole\nMusique à la fréquence de l’eau 429.62 Hz\nConcert Botanique\nGastronome et herboristerie sonores\n…
URL:https://vegetalsens.org/evenement/st-pierre-dentremont-4/
LOCATION:St Pierre d’Entremont
ORGANIZER;CN="V%C3%89G%C3%89TALsens":MAILTO:vegetalsens@mailo.com
END:VEVENT
BEGIN:VEVENT
DTSTART;TZID=Europe/Paris:20250719T143000
DTEND;TZID=Europe/Paris:20250719T160000
DTSTAMP:20260422T022240
CREATED:20241218T153749Z
LAST-MODIFIED:20250413T134315Z
UID:29658-1752935400-1752940800@vegetalsens.org
SUMMARY:St Pierre de Chartreuse - jardin du Père Truffot
DESCRIPTION:Découverte de la musique par les plantes dans les thèmes :\nHistorique scientifique\nAgriculture et protéodies\, procédé Génodics\nAgriculture et BBG\, Biodynamiseur Botanique de Gaujacq\,\nSoins/séances animaux des fermes\, protocole\nSoins/séances pour les humains\, protocole\nMusique à la fréquence de l’eau 429.62 Hz\nConcert Botanique\nGastronomie et herboristerie sonores\n…
URL:https://vegetalsens.org/evenement/st-pierre-de-chartreuse-4/
LOCATION:St Pierre de Chartrteuse
ORGANIZER;CN="V%C3%89G%C3%89TALsens":MAILTO:vegetalsens@mailo.com
END:VEVENT
BEGIN:VEVENT
DTSTART;TZID=Europe/Paris:20250722T173000
DTEND;TZID=Europe/Paris:20250722T183000
DTSTAMP:20260422T022240
CREATED:20250708T071607Z
LAST-MODIFIED:20250708T072540Z
UID:29874-1753205400-1753209000@vegetalsens.org
SUMMARY:Esplanade du port d'Aiguebelette-le-lac
DESCRIPTION:Atelier musique par les plantes et par le corps \n \n 
URL:https://vegetalsens.org/evenement/esplanade-du-port-daiguebelette-le-lac/
LOCATION:Aiguebelette le lac\, 73610\, France
ORGANIZER;CN="V%C3%89G%C3%89TALsens":MAILTO:vegetalsens@mailo.com
END:VEVENT
BEGIN:VEVENT
DTSTART;TZID=Europe/Paris:20250723T163000
DTEND;TZID=Europe/Paris:20250723T180000
DTSTAMP:20260422T022240
CREATED:20250708T073211Z
LAST-MODIFIED:20250708T073211Z
UID:29881-1753288200-1753293600@vegetalsens.org
SUMMARY:Jardin du presbytère Nances
DESCRIPTION:Sieste musicale avec la musique par les plantes
URL:https://vegetalsens.org/evenement/jardin-du-presbytere-nances/
LOCATION:Nances\, 73470\, France
END:VEVENT
BEGIN:VEVENT
DTSTART;TZID=Europe/Paris:20250725T100000
DTEND;TZID=Europe/Paris:20250725T113000
DTSTAMP:20260422T022240
CREATED:20250114T173927Z
LAST-MODIFIED:20250114T174449Z
UID:29776-1753437600-1753443000@vegetalsens.org
SUMMARY:Camping l'Arbaz - animation privée
DESCRIPTION:Découverte de la musique par les plantes dans les thèmes :\nHistorique scientifique\nAgriculture et protéodies\, procédé Génodics\nAgriculture et BBG\, Biodynamiseur Botanique de Gaujacq\,\nSoins/séances animaux des fermes\, protocole\nSoins/séances pour les humains\, protocole\nMusique à la fréquence de l’eau 429.62 Hz\nConcert Botanique\nCuisine Sonore\n…
URL:https://vegetalsens.org/evenement/novalaise-camping-larbaz-animation-privee-2/
END:VEVENT
BEGIN:VEVENT
DTSTART;TZID=Europe/Paris:20250730T170000
DTEND;TZID=Europe/Paris:20250730T183000
DTSTAMP:20260422T022240
CREATED:20241210T104858Z
LAST-MODIFIED:20250526T191446Z
UID:29594-1753894800-1753900200@vegetalsens.org
SUMMARY:Yenne - jardin partagé
DESCRIPTION:Découverte de la musique par les plantes :\nHistorique scientifique\nApplications en agriculture\, animaux des fermes\,\nBiodynamiseur Botanique de Gaujacq\,\nMusique à la fréquence de l’eau 429.62 Hz\nConcert Botanique\nCuisine Sonore\n…
URL:https://vegetalsens.org/evenement/yenne-jardin-partage-7/
LOCATION:Yenne\, Faubourg Tournechat - jardin partagé de la Fourmilienne\, YENNE\, 73170
ORGANIZER;CN="V%C3%89G%C3%89TALsens":MAILTO:vegetalsens@mailo.com
END:VEVENT
END:VCALENDAR