BEGIN:VCALENDAR
VERSION:2.0
PRODID:-//VÉGÉTALsens - ECPv6.15.20//NONSGML v1.0//EN
CALSCALE:GREGORIAN
METHOD:PUBLISH
X-ORIGINAL-URL:https://vegetalsens.org
X-WR-CALDESC:Évènements pour VÉGÉTALsens
REFRESH-INTERVAL;VALUE=DURATION:PT1H
X-Robots-Tag:noindex
X-PUBLISHED-TTL:PT1H
BEGIN:VTIMEZONE
TZID:Europe/Paris
BEGIN:DAYLIGHT
TZOFFSETFROM:+0100
TZOFFSETTO:+0200
TZNAME:CEST
DTSTART:20240331T010000
END:DAYLIGHT
BEGIN:STANDARD
TZOFFSETFROM:+0200
TZOFFSETTO:+0100
TZNAME:CET
DTSTART:20241027T010000
END:STANDARD
BEGIN:DAYLIGHT
TZOFFSETFROM:+0100
TZOFFSETTO:+0200
TZNAME:CEST
DTSTART:20250330T010000
END:DAYLIGHT
BEGIN:STANDARD
TZOFFSETFROM:+0200
TZOFFSETTO:+0100
TZNAME:CET
DTSTART:20251026T010000
END:STANDARD
BEGIN:DAYLIGHT
TZOFFSETFROM:+0100
TZOFFSETTO:+0200
TZNAME:CEST
DTSTART:20260329T010000
END:DAYLIGHT
BEGIN:STANDARD
TZOFFSETFROM:+0200
TZOFFSETTO:+0100
TZNAME:CET
DTSTART:20261025T010000
END:STANDARD
END:VTIMEZONE
BEGIN:VEVENT
DTSTART;TZID=Europe/Paris:20250802T143000
DTEND;TZID=Europe/Paris:20250802T160000
DTSTAMP:20260421T190816
CREATED:20241210T103112Z
LAST-MODIFIED:20241226T205212Z
UID:29580-1754145000-1754150400@vegetalsens.org
SUMMARY:St Maurice de Rotherens - radio-musée Galletti
DESCRIPTION:Découverte de la musique par les plantes dans les thèmes :\nHistorique scientifique\nAgriculture et protéodies\, procédé Génodics\nAgriculture et BBG\, Biodynamiseur Botanique de Gaujacq\,\nSoins/séances animaux des fermes\, protocole\nSoins/séances pour les humains\, protocole\nMusique à la fréquence de l’eau 429.62 Hz\nConcert Botanique\nCuisine Sonore\n…
URL:https://vegetalsens.org/evenement/st-maurice-de-rotherens-radio-musee-galletti-3/
LOCATION:Saint Maurice de Rotherens\, Route de galletti - place de l'église\, SAINT MAURICE DE ROTHERENS
ORGANIZER;CN="V%C3%89G%C3%89TALsens":MAILTO:vegetalsens@mailo.com
END:VEVENT
BEGIN:VEVENT
DTSTART;TZID=Europe/Paris:20250808T100000
DTEND;TZID=Europe/Paris:20250808T113000
DTSTAMP:20260421T190816
CREATED:20250114T174031Z
LAST-MODIFIED:20250114T174740Z
UID:29778-1754647200-1754652600@vegetalsens.org
SUMMARY:Camping l'Arbaz - Animation privée
DESCRIPTION:Découverte de la musique par les plantes dans les thèmes :\nHistorique scientifique\nAgriculture et protéodies\, procédé Génodics\nAgriculture et BBG\, Biodynamiseur Botanique de Gaujacq\,\nSoins/séances animaux des fermes\, protocole\nSoins/séances pour les humains\, protocole\nMusique à la fréquence de l’eau 429.62 Hz\nConcert Botanique\nCuisine Sonore\n…
URL:https://vegetalsens.org/evenement/novalaise-camping-larbaz-animation-privee-3/
END:VEVENT
BEGIN:VEVENT
DTSTART;TZID=Europe/Paris:20250815T100000
DTEND;TZID=Europe/Paris:20250815T210000
DTSTAMP:20260421T190816
CREATED:20241218T154201Z
LAST-MODIFIED:20250708T193855Z
UID:29662-1755252000-1755291600@vegetalsens.org
SUMMARY:St Pierre de Chartreuse - jardin du père Truffot
DESCRIPTION:Animation sur la découverte des mélodies par les plantes
URL:https://vegetalsens.org/evenement/st-pierre-de-chartreuse-5/
LOCATION:St Pierre de Chartrteuse
END:VEVENT
BEGIN:VEVENT
DTSTART;TZID=Europe/Paris:20250823T080000
DTEND;TZID=Europe/Paris:20250823T120000
DTSTAMP:20260421T190816
CREATED:20241218T154348Z
LAST-MODIFIED:20250526T194113Z
UID:29664-1755936000-1755950400@vegetalsens.org
SUMMARY:St Pierre d'Entremont 38 - place du marché
DESCRIPTION:Découverte de la musique par les plantes dans les thèmes :\nHistorique scientifique\nAgriculture et protéodies\, procédé Génodics\nAgriculture et BBG\, Biodynamiseur Botanique de Gaujacq\,\nSoins/séances animaux des fermes\, protocole\nSoins/séances pour les humains\, protocole\nMusique à la fréquence de l’eau 429.62 Hz\nConcert Botanique\nCuisine Sonore\n…
URL:https://vegetalsens.org/evenement/st-pierre-dentremont-5/
LOCATION:St Pierre d’Entremont
ORGANIZER;CN="V%C3%89G%C3%89TALsens":MAILTO:vegetalsens@mailo.com
END:VEVENT
BEGIN:VEVENT
DTSTART;TZID=Europe/Paris:20250823T143000
DTEND;TZID=Europe/Paris:20250823T160000
DTSTAMP:20260421T190816
CREATED:20250715T093517Z
LAST-MODIFIED:20250715T093517Z
UID:29894-1755959400-1755964800@vegetalsens.org
SUMMARY:St Pierre de Chartreuse – jardin du Père Truffot
DESCRIPTION:Découverte de la musique par les plantes dans les thèmes :\nHistorique scientifique\nAgriculture et protéodies\nAgriculture et BBG\nSoins/séances animaux des fermes\nSoins/séances pour les humains\nMusique à la fréquence de l’eau 429.62 Hz\nConcert Botanique\nGastronomie et herboristerie sonores\n…
URL:https://vegetalsens.org/evenement/st-pierre-de-chartreuse-jardin-du-pere-truffot/
LOCATION:St Pierre de Chartrteuse
END:VEVENT
END:VCALENDAR