BEGIN:VCALENDAR
VERSION:2.0
PRODID:-//VÉGÉTALsens - ECPv6.15.20//NONSGML v1.0//EN
CALSCALE:GREGORIAN
METHOD:PUBLISH
X-ORIGINAL-URL:https://vegetalsens.org
X-WR-CALDESC:Évènements pour VÉGÉTALsens
REFRESH-INTERVAL;VALUE=DURATION:PT1H
X-Robots-Tag:noindex
X-PUBLISHED-TTL:PT1H
BEGIN:VTIMEZONE
TZID:Europe/Paris
BEGIN:DAYLIGHT
TZOFFSETFROM:+0100
TZOFFSETTO:+0200
TZNAME:CEST
DTSTART:20240331T010000
END:DAYLIGHT
BEGIN:STANDARD
TZOFFSETFROM:+0200
TZOFFSETTO:+0100
TZNAME:CET
DTSTART:20241027T010000
END:STANDARD
BEGIN:DAYLIGHT
TZOFFSETFROM:+0100
TZOFFSETTO:+0200
TZNAME:CEST
DTSTART:20250330T010000
END:DAYLIGHT
BEGIN:STANDARD
TZOFFSETFROM:+0200
TZOFFSETTO:+0100
TZNAME:CET
DTSTART:20251026T010000
END:STANDARD
BEGIN:DAYLIGHT
TZOFFSETFROM:+0100
TZOFFSETTO:+0200
TZNAME:CEST
DTSTART:20260329T010000
END:DAYLIGHT
BEGIN:STANDARD
TZOFFSETFROM:+0200
TZOFFSETTO:+0100
TZNAME:CET
DTSTART:20261025T010000
END:STANDARD
END:VTIMEZONE
BEGIN:VEVENT
DTSTART;TZID=Europe/Paris:20250901T170000
DTEND;TZID=Europe/Paris:20250901T180000
DTSTAMP:20260421T210613
CREATED:20241205T181632Z
LAST-MODIFIED:20241210T085705Z
UID:29531-1756746000-1756749600@vegetalsens.org
SUMMARY:St Alban de Montbel - place du village
DESCRIPTION:Découverte de la musique par les plantes dans les thèmes :\nHistorique scientifique\nAgriculture et protéodies\, procédé Génodics\nAgriculture et BBG\, Biodynamiseur Botanique de Gaujacq\,\nSoins/séances animaux des fermes\, protocole\nSoins/séances pour les humains\, protocole\nMusique à la fréquence de l’eau 429.62 Hz\nConcert Botanique\nCuisine Sonore\n…
URL:https://vegetalsens.org/evenement/st-alban-de-montbel-place-du-village-7/
LOCATION:St Alban de Montbel\, Place de la mairie\, St Alban de Montbel\, 73610\, France
ORGANIZER;CN="V%C3%89G%C3%89TALsens":MAILTO:vegetalsens@mailo.com
END:VEVENT
BEGIN:VEVENT
DTSTART;TZID=Europe/Paris:20250906T083000
DTEND;TZID=Europe/Paris:20250906T120000
DTSTAMP:20260421T210613
CREATED:20241205T182755Z
LAST-MODIFIED:20241210T085833Z
UID:29536-1757147400-1757160000@vegetalsens.org
SUMMARY:Novalaise - forum des associations
DESCRIPTION:Découverte de la musique par les plantes dans les thèmes :\nHistorique scientifique\nAgriculture et protéodies\, procédé Génodics\nAgriculture et BBG\, Biodynamiseur Botanique de Gaujacq\,\nSoins/séances animaux des fermes\, protocole\nSoins/séances pour les humains\, protocole\nMusique à la fréquence de l’eau 429.62 Hz\nConcert Botanique\nCuisine Sonore\n…
URL:https://vegetalsens.org/evenement/novalaise-forum-des-associations-2/
ORGANIZER;CN="V%C3%89G%C3%89TALsens":MAILTO:vegetalsens@mailo.com
END:VEVENT
BEGIN:VEVENT
DTSTART;TZID=Europe/Paris:20250911T133000
DTEND;TZID=Europe/Paris:20250911T160000
DTSTAMP:20260421T210613
CREATED:20250907T183539Z
LAST-MODIFIED:20250907T184539Z
UID:29897-1757597400-1757606400@vegetalsens.org
SUMMARY:Musicothérapie botanique à l'EHPAD de Novalaise (privée)
DESCRIPTION:Séances collectives ou individuelles d’écoute  \nde mélodies botaniques en direct ou enregistrées.  \nL’interaction vibratoire entre le végétal et l’humain  \nœuvre pour une détente bienfaisante\, berce\, et invite au voyage.
URL:https://vegetalsens.org/evenement/musicotherapie-botanique-a-lehpad-de-novalaise-privee/
LOCATION:Novalaise EHPAD\, 73470\, France
ORGANIZER;CN="V%C3%89G%C3%89TALsens":MAILTO:vegetalsens@mailo.com
END:VEVENT
BEGIN:VEVENT
DTSTART;TZID=Europe/Paris:20250913T080000
DTEND;TZID=Europe/Paris:20250913T120000
DTSTAMP:20260421T210613
CREATED:20241218T154817Z
LAST-MODIFIED:20250526T194254Z
UID:29670-1757750400-1757764800@vegetalsens.org
SUMMARY:St Pierre d'Entremont 38 - place du marché
DESCRIPTION:Découverte de la musique par les plantes dans les thèmes :\nHistorique scientifique\nAgriculture et protéodies\, procédé Génodics\nAgriculture et BBG\, Biodynamiseur Botanique de Gaujacq\,\nSoins/séances animaux des fermes\, protocole\nSoins/séances pour les humains\, protocole\nMusique à la fréquence de l’eau 429.62 Hz\nConcert Botanique\nGastronomie et herboristerie sonores\n…
URL:https://vegetalsens.org/evenement/st-pierre-dentremont-6/
LOCATION:St Pierre d’Entremont
ORGANIZER;CN="V%C3%89G%C3%89TALsens":MAILTO:vegetalsens@mailo.com
END:VEVENT
BEGIN:VEVENT
DTSTART;TZID=Europe/Paris:20250913T143000
DTEND;TZID=Europe/Paris:20250913T160000
DTSTAMP:20260421T210613
CREATED:20241218T154943Z
LAST-MODIFIED:20250413T134012Z
UID:29672-1757773800-1757779200@vegetalsens.org
SUMMARY:St Pierre de Chartreuse - jardin du Père Truffot
DESCRIPTION:Découverte de la musique par les plantes dans les thèmes :\nHistorique scientifique\nAgriculture et protéodies\, procédé Génodics\nAgriculture et BBG\, Biodynamiseur Botanique de Gaujacq\,\nSoins/séances animaux des fermes\, protocole\nSoins/séances pour les humains\, protocole\nMusique à la fréquence de l’eau 429.62 Hz\nConcert Botanique\nGastronomie et herboristerie sonores\n…
URL:https://vegetalsens.org/evenement/st-pierre-de-chartreuse-6/
LOCATION:St Pierre de Chartrteuse
ORGANIZER;CN="V%C3%89G%C3%89TALsens":MAILTO:vegetalsens@mailo.com
END:VEVENT
BEGIN:VEVENT
DTSTART;TZID=Europe/Paris:20250915T183000
DTEND;TZID=Europe/Paris:20250915T210000
DTSTAMP:20260421T210613
CREATED:20250907T190731Z
LAST-MODIFIED:20250907T190731Z
UID:29908-1757961000-1757970000@vegetalsens.org
SUMMARY:Rencontre mensuelle des adhérents et sympathisants
DESCRIPTION:Réunion de rentrée avec pique nique en partage
URL:https://vegetalsens.org/evenement/rencontre-mensuelle-des-adherents-et-sympathisants/
END:VEVENT
BEGIN:VEVENT
DTSTART;TZID=Europe/Paris:20250917T133000
DTEND;TZID=Europe/Paris:20250917T160000
DTSTAMP:20260421T210613
CREATED:20250907T184147Z
LAST-MODIFIED:20250907T184618Z
UID:29904-1758115800-1758124800@vegetalsens.org
SUMMARY:Musicothérapie botanique à l’EHPAD de Novalaise (privée)
DESCRIPTION:Séances collectives ou individuelles d’écoute \nde mélodies botaniques en direct ou enregistrées. \nL’interaction vibratoire entre le végétal et l’humain \nœuvre pour une détente bienfaisante\, berce\, et invite au voyage. \n 
URL:https://vegetalsens.org/evenement/musicotherapie-botanique-a-lehpad-de-novalaise-privee-2/
LOCATION:Novalaise EHPAD\, 73470\, France
ORGANIZER;CN="V%C3%89G%C3%89TALsens":MAILTO:vegetalsens@mailo.com
END:VEVENT
BEGIN:VEVENT
DTSTART;TZID=Europe/Paris:20250924T170000
DTEND;TZID=Europe/Paris:20250924T183000
DTSTAMP:20260421T210613
CREATED:20241210T105024Z
LAST-MODIFIED:20250526T191020Z
UID:29596-1758733200-1758738600@vegetalsens.org
SUMMARY:Yenne - jardin partagé
DESCRIPTION:Découverte de la musique par les plantes dans les thèmes :\nHistorique scientifique\nApplications en agriculture\, animaux des fermes\,\nBiodynamiseur Botanique de Gaujacq\,\nMusique à la fréquence de l’eau 429.62 Hz\nConcert Botanique\nCuisine Sonore\n…
URL:https://vegetalsens.org/evenement/yenne-jardin-partage-8/
LOCATION:Yenne\, Faubourg Tournechat - jardin partagé de la Fourmilienne\, YENNE\, 73170
ORGANIZER;CN="V%C3%89G%C3%89TALsens":MAILTO:vegetalsens@mailo.com
END:VEVENT
BEGIN:VEVENT
DTSTART;TZID=Europe/Paris:20250925T133000
DTEND;TZID=Europe/Paris:20250925T160000
DTSTAMP:20260421T210613
CREATED:20250907T184447Z
LAST-MODIFIED:20260122T133402Z
UID:29906-1758807000-1758816000@vegetalsens.org
SUMMARY:Musicothérapie botanique à l'EHPAD de Novalaise (privée)
DESCRIPTION:Séances collectives ou individuelles d’écoute  \nde mélodies botaniques en direct ou enregistrées.  \nL’interaction vibratoire entre le végétal et l’humain  \nœuvre pour une détente bienfaisante\, berce\, et invite au voyage.
URL:https://vegetalsens.org/evenement/musicotherapie-botanique-a-lehpad-de-novalaise-privee-3/
LOCATION:Novalaise EHPAD\, 73470\, France
ORGANIZER;CN="V%C3%89G%C3%89TALsens":MAILTO:vegetalsens@mailo.com
END:VEVENT
BEGIN:VEVENT
DTSTART;TZID=Europe/Paris:20250927T143000
DTEND;TZID=Europe/Paris:20250927T160000
DTSTAMP:20260421T210613
CREATED:20241210T103356Z
LAST-MODIFIED:20241211T142330Z
UID:29582-1758983400-1758988800@vegetalsens.org
SUMMARY:St Maurice de Rotherens - radio-musée Galletti
DESCRIPTION:Découverte de la musique par les plantes dans les thèmes :\nHistorique scientifique\nAgriculture et protéodies\, procédé Génodics\nAgriculture et BBG\, Biodynamiseur Botanique de Gaujacq\,\nSoins/séances animaux des fermes\, protocole\nSoins/séances pour les humains\, protocole\nMusique à la fréquence de l’eau 429.62 Hz\nConcert Botanique\nCuisine Sonore\n…
URL:https://vegetalsens.org/evenement/st-maurice-de-rotherens-radio-musee-galletti-4/
LOCATION:Saint Maurice de Rotherens\, Route de galletti - place de l'église\, SAINT MAURICE DE ROTHERENS
ORGANIZER;CN="V%C3%89G%C3%89TALsens":MAILTO:vegetalsens@mailo.com
END:VEVENT
END:VCALENDAR